BEGIN:VCALENDAR
VERSION:2.0
PRODID:Events Booking
BEGIN:VEVENT
UID:69e79f8d2c3fb
SUMMARY:2017 Annual Symposium - Realizing Your Project Management Peak Perf
 ormance
DESCRIPTION:2017 Symposium is scheduled for October 20th\, 2017 at Roanoke 
 College 
 Our Keynote is Manley Feinberg II\, an international keynote s
 peaker and author\, who will speak to you about reaching your next summit.
   He will also be a part of our leadership breakout track along with Jon 
 Hagmaier\, CEO of Common Wealth Growth Group\, and Christo Schutte\, an ex
 ecutive coach and founder of The Game Within.  We will also be having a C
 hange manage track with speeches from Deon Glorius\, Organization change m
 anagement director at Corvesta\, and Dr. David Duby\, Chair of the Liberty
  school of Business. 
 Question? Want to Volunteer? Contact Symposium@pm
 i-swva.org
LOCATION:226 High St\, Salem\, VA 24153\, USA
DTSTART:20171020T120000Z
DTEND:20171020T210000Z
DTSTAMP:20260421T160221Z
ORGANIZER;CN=PMI Southwest Virginia Chapter:MAILTO:info@pmi-swva.org
GEO:37.295779;-80.054302
X-APPLE-STRUCTURED-LOCATION;VALUE=URI;X-ADDRESS=226 High St\, Salem\, VA 24
 153\, USA;X-APPLE-RADIUS=72;X-TITLE=Roanoke College Colket Center:37.29577
 9;-80.054302
END:VEVENT
END:VCALENDAR