BEGIN:VCALENDAR
VERSION:2.0
PRODID:Events Booking
BEGIN:VEVENT
UID:69e7cb20789d9
SUMMARY:2018 Annual Symposium - Past\, Present and Future
DESCRIPTION:
 
 
 
 Date: October 19th\, 2018Location: Roanoke College 
 Colket Center (Directions and Parking Click Here)PDUs: 8 - 5 leadership an
 d 3 to choose your own*Registration is NOW OPEN!*
 Price: 
 Early Bird 
 (August 1st through September 21st:      Member = $119     Non-Memb
 er = $154
 Regular (September 22nd through October 17th):      Member
  = $149     Non-Member = $184
 Student: $49 (Please email symposium@pm
 i-swva.org for how to register)
 
 
 Click here to find out more abou
 t our Sponsors 
 Gold Sponsors:
  
 Silver Sponsors:
 ApexSource4 
 
 In Kind Gold Sponsors:
 Roanoke CollegeValley Business Front
 
 
 

  
  
  This year we celebrate 15 years of supporting and leading proj
 ect management in Southwestern Virginia!  Join us in celebrating the Past
 \, Present and Future of Project Management.  Each speaker will enlighte
 n you with 3 PM take-aways\, with 5 sessions to attend that will get you 1
 5 take-aways to apply to your PM career and everyday life.
 UPDATES!
 

  
 Agile trainer Richard Cheng as a breakout session speaker -&gt\; we h
 ave two sessions brought to you by Richard\, director of training at Excel
 la\, who specializes in all agile methodology.  He will be a fantastic sp
 eaker!
 Early bird registration has been extended due to the storm to 9/2
 1... REGISTER TODAY!
 Earlier start means Earlier End -&gt\; we plan to 
 start at 8:30 with Sardek speaking at 8:45 so you won't want to be late!

  Closing Speaker -&gt\; Matt Thornill will be speaking on generational dyn
 amics and how that can impact the way you communicate with your project te
 am
 New Speakers for our Breakout Sessions -&gt\; We will be welcoming Ch
 ris Riha\, who has started his own PM consulting firm\, and Retired Police
  Chief Chris Perkins to cover pertinent project management topics to you!
 
 Panel Track -&gt\; we will have having a track solely dedicate to differ
 ent panel discussion so come and hear from your fellow PM stars
 15 year 
 celebration -&gt\; in the afternoon we will be having a special treat to c
 elebrate our 15 year anniversary\, and you never know what we might be giv
 ing away to honor this
 And don't forget our amazing opening speaker Sard
 ek Love who will get you excited about a our symposium and Project Managem
 ent.
 
 Additional Information:
 
 Schedule: https://pmi-swva.org/ind
 ex.php/articles/93-symposium-schedule-of-events
 Presenter Bios: https://
 pmi-swva.org/index.php/articles/86-symposium-speaker-bios
 Presenter Abst
 racts: https://pmi-swva.org/index.php/articles/87-symposium-presentation-a
 bstracts
 Menu (email us with any food allergies): https://pmi-swva.org
 /index.php/event-detail-articles/88
 Parking: https://pmi-swva.org/index
 .php/event-detail-articles/62-symposium-parking-map
 
  
 Any Question
 s?  Email symposium@pmi-swva.org 
  
  
DTSTART:20181019T120000Z
DTEND:20181019T210000Z
DTSTAMP:20260421T190816Z
ORGANIZER;CN=PMI Southwest Virginia Chapter:MAILTO:info@pmi-swva.org
END:VEVENT
END:VCALENDAR